BEGIN:VCALENDAR
VERSION:2.0
PRODID:-//Whole Hearted Winery, Brewery &amp; Distillery - ECPv6.15.17.1//NONSGML v1.0//EN
CALSCALE:GREGORIAN
METHOD:PUBLISH
X-ORIGINAL-URL:https://winethatgives.com
X-WR-CALDESC:Events for Whole Hearted Winery, Brewery &amp; Distillery
REFRESH-INTERVAL;VALUE=DURATION:PT1H
X-Robots-Tag:noindex
X-PUBLISHED-TTL:PT1H
BEGIN:VTIMEZONE
TZID:America/New_York
BEGIN:DAYLIGHT
TZOFFSETFROM:-0500
TZOFFSETTO:-0400
TZNAME:EDT
DTSTART:20250309T070000
END:DAYLIGHT
BEGIN:STANDARD
TZOFFSETFROM:-0400
TZOFFSETTO:-0500
TZNAME:EST
DTSTART:20251102T060000
END:STANDARD
BEGIN:DAYLIGHT
TZOFFSETFROM:-0500
TZOFFSETTO:-0400
TZNAME:EDT
DTSTART:20260308T070000
END:DAYLIGHT
BEGIN:STANDARD
TZOFFSETFROM:-0400
TZOFFSETTO:-0500
TZNAME:EST
DTSTART:20261101T060000
END:STANDARD
BEGIN:DAYLIGHT
TZOFFSETFROM:-0500
TZOFFSETTO:-0400
TZNAME:EDT
DTSTART:20270314T070000
END:DAYLIGHT
BEGIN:STANDARD
TZOFFSETFROM:-0400
TZOFFSETTO:-0500
TZNAME:EST
DTSTART:20271107T060000
END:STANDARD
END:VTIMEZONE
BEGIN:VEVENT
DTSTART;TZID=America/New_York:20260418T130000
DTEND;TZID=America/New_York:20260418T200000
DTSTAMP:20260421T171229
CREATED:20260320T214833Z
LAST-MODIFIED:20260320T214914Z
UID:12236-1776517200-1776542400@winethatgives.com
SUMMARY:Cousins Maine Lobster Food Truck
DESCRIPTION:Reservations Recommended \nLobster food truck at Whole Hearted Winery.  Order off the truck and dine inside. \nview the menu at https://www.cousinsmainelobster.com/
URL:https://winethatgives.com/event/cousins-maine-lobster-food-truck/
LOCATION:Whole Hearted Winery\, Brewery & Distillery\, 56808 Grand River Ave. Ste 5\, New Hudson\, Michigan\, 48165\, United States
CATEGORIES:Food Truck
ATTACH;FMTTYPE=image/png:https://winethatgives.com/wp-content/uploads/2025/10/Cousins-Maine-Lobster-wide-general.png
END:VEVENT
END:VCALENDAR